BEGIN:VCALENDAR
VERSION:2.0
PRODID:-//wp-events-plugin.com//7.2.3.1//EN
TZID:America/Los_Angeles
X-WR-TIMEZONE:America/Los_Angeles
BEGIN:VEVENT
UID:70@sincitywitches.com
DTSTART;TZID=America/Los_Angeles:20260505T180000
DTEND;TZID=America/Los_Angeles:20260505T193000
DTSTAMP:20260330T235132Z
URL:https://sincitywitches.com/events/mystic-book-circle-reading-discussio
 n-group-2/
SUMMARY:Mystic Book Circle Reading & Discussion Group
DESCRIPTION:Mystic Book Circle Reading &amp\; Discussion Group (Free Event)
 Hosted by Marissa DiAradia at Enchanted Forest Reiki Center Mystic Book Ci
 rcle is a bi-weekly reading and discussion group for those who want to exp
 lore witchcraft\, mysticism\, and spiritual practice through books and sha
 red conversation.\n\n\nEach month we focus on one book\, breaking it into 
 two sessions so participants can read\, reflect\, and integrate the materi
 al in a meaningful way while connecting with others on a similar path.\n\n
 \nApril Book Selection To Ride a Silver Broomstick: New Generation Witchcr
 aft This foundational book is a practical introduction to modern witchcraf
 t\, guiding readers through the core principles of the craft including ene
 rgy work\, intention\, ritual\, tools\, and spiritual awareness. It is esp
 ecially helpful for beginners while still offering insight for those looki
 ng to reconnect with the basics of their practice.\n\nRSVP FREE:\nhttps://
 www.enchantedforestreiki.com/events/mystic-book-circle-reading-discussion-
 group-free-event-hosted-by-marissa-diaradia-2026-04-14-18-00\n\nSchedule\n
 Part 1\nTuesday April 14\, 20266:00 PM – 7:30 PMBook Discussion covering
  Chapters 1–12\nPart 2\nTuesday May 5\, 20266:00 PM – 7:30 PMDiscussio
 n covering Chapters 12–23\n\nWhat to Expect Each gathering includes:\n
 • guided group discussion of the reading\n• intuitive development exer
 cises\n• journal prompts for deeper reflection\n\n\n• shared insights 
 and open conversation\n\n\n\n\nThis is not just a book club\, but a space 
 to actively engage with the material and apply it to your personal magical
  practice.\n\n\nMystic Book Circle is a welcoming space for both new witch
 es and experienced practitioners to learn\, grow\, and connect through sha
 red knowledge and discussion. It is also a great way to meet like-minded p
 eople\, exchange ideas\, and deepen your understanding of the craft in a s
 upportive and engaging environment. All experience levels.
ATTACH;FMTTYPE=image/jpeg:https://i0.wp.com/sincitywitches.com/wp-content/
 uploads/2026/03/Mystic-Book-Circle-Silver-Ravenwolf.png?fit=2100%2C1080&ss
 l=1
CATEGORIES:Book Clubs,Witch Events
LOCATION:Enchanted Forest Reiki Center\, 2280 S Jones Blvd\, Las Vegas\, NV
 \, 89146\, United States
X-APPLE-STRUCTURED-LOCATION;VALUE=URI;X-ADDRESS=2280 S Jones Blvd\, Las Veg
 as\, NV\, 89146\, United States;X-APPLE-RADIUS=100;X-TITLE=Enchanted Fores
 t Reiki Center:geo:0,0
END:VEVENT
BEGIN:VTIMEZONE
TZID:America/Los_Angeles
X-LIC-LOCATION:America/Los_Angeles
BEGIN:DAYLIGHT
DTSTART:20260308T030000
TZOFFSETFROM:-0800
TZOFFSETTO:-0700
TZNAME:PDT
END:DAYLIGHT
END:VTIMEZONE
END:VCALENDAR